BEGIN:VCALENDAR
VERSION:2.0
PRODID:-//www.crestviewchristian.org//NONSGML kigkonsult.se iCalcreator 2.3
 9.1//
CALSCALE:GREGORIAN
METHOD:PUBLISH
UID:1ab11a5b-0028-4586-9ac8-25f0d1861d3a
X-WR-CALNAME:www.crestviewchristian.org
X-WR-CALDESC:www.crestviewchristian.org
X-WR-TIMEZONE:America/Los_Angeles
X-LIC-LOCATION:America/Los_Angeles
BEGIN:VEVENT
UID:cfe60069-e2e0-4458-9ab6-98b0358e5bcd
DTSTAMP:20260423T102635Z
CLASS:PUBLIC
DTSTART;TZID=America/Los_Angeles:20260423T090000
DTEND;TZID=America/Los_Angeles:20260423T103000
LOCATION:Friendship House
SUMMARY:Men at the Table
TRANSP:OPAQUE
BEGIN:VALARM
ACTION:DISPLAY
DESCRIPTION:Men at the Table
TRIGGER:-PT15M
END:VALARM
END:VEVENT
END:VCALENDAR
