BEGIN:VCALENDAR
VERSION:2.0
PRODID:-//www.crestviewchristian.org//NONSGML kigkonsult.se iCalcreator 2.3
 9.1//
CALSCALE:GREGORIAN
METHOD:PUBLISH
UID:17407f45-0541-427d-b57d-39412aeada5b
X-WR-CALNAME:www.crestviewchristian.org
X-WR-CALDESC:www.crestviewchristian.org
X-WR-TIMEZONE:America/Los_Angeles
X-LIC-LOCATION:America/Los_Angeles
BEGIN:VEVENT
UID:4d514308-9cd7-4fdc-9c7a-0c52f9f43aed
DTSTAMP:20260421T124057Z
CLASS:PUBLIC
DTSTART;TZID=America/Los_Angeles:20260421T183000
DTEND;TZID=America/Los_Angeles:20260421T200000
LOCATION:Crestview Christian Church
SUMMARY:Band of Brothers
TRANSP:OPAQUE
BEGIN:VALARM
ACTION:DISPLAY
DESCRIPTION:Band of Brothers
TRIGGER:-PT15M
END:VALARM
END:VEVENT
END:VCALENDAR
